BEGIN:VCALENDAR
VERSION:2.0
PRODID:-//Tukios.com/
BEGIN:VEVENT
UID:25417a6a-12fa-4f5e-bf53-a39ce96c4c15@www.memorialfuneralhome.com
DTSTAMP:20260421T184404Z
DTSTART:20260506T140000Z
DTEND:20260506T150000Z
SUMMARY:Mass of Christian Burial
DESCRIPTION:
URL:https://www.memorialfuneralhome.com/obituaries/augustin-hunter
LOCATION:St. Mary's Catholic Church 12 William Street  Newport RI 02840
GEO:41.4838398;-71.3124339
END:VEVENT
END:VCALENDAR