BEGIN:VCALENDAR
VERSION:2.0
PRODID:-//Tukios.com/
BEGIN:VEVENT
UID:9e5b9dc1-2a50-4fec-b706-54d8320eff07@www.memorialfuneralhome.com
DTSTAMP:20260421T184142Z
DTSTART:20260506T130000Z
DTEND:20260506T133000Z
SUMMARY:Visiting Hours
DESCRIPTION:
URL:https://www.memorialfuneralhome.com/obituaries/augustin-hunter
LOCATION:Memorial Funeral Home 375 Broadway  Newport RI 02840
GEO:41.5006475;-71.3051627
END:VEVENT
END:VCALENDAR