BEGIN:VCALENDAR
VERSION:2.0
PRODID:-//Tukios.com/
BEGIN:VEVENT
UID:0c91d112-10ca-4bd5-8be9-9c1ccd48f470@www.memorialfuneralhome.com
DTSTAMP:20260423T224117Z
DTSTART:20260430T173000Z
DTEND:20260430T180000Z
SUMMARY:Graveside Service
DESCRIPTION:
URL:https://www.memorialfuneralhome.com/obituaries/brigid-walsh
LOCATION:Newport Memorial Park 123 Howland Ave  Middletown RI 02842
GEO:41.5071629;-71.2454724
END:VEVENT
END:VCALENDAR