BEGIN:VCALENDAR
VERSION:2.0
PRODID:-//Tukios.com/
BEGIN:VEVENT
UID:be1d5713-3dc9-4dd5-8012-aaac1586f20f@www.memorialfuneralhome.com
DTSTAMP:20260423T224046Z
DTSTART:20260430T163000Z
DTEND:20260430T170000Z
SUMMARY:Funeral Service
DESCRIPTION:
URL:https://www.memorialfuneralhome.com/obituaries/brigid-walsh
LOCATION:Connors Funeral Home 55 West Main Road  Portsmouth RI 02871
GEO:41.614105;-71.2582802
END:VEVENT
END:VCALENDAR