BEGIN:VCALENDAR
VERSION:2.0
PRODID:-//Tukios.com/
BEGIN:VEVENT
UID:91358e11-83a8-41d0-b286-058208731171@www.memorialfuneralhome.com
DTSTAMP:20260423T224336Z
DTSTART:20260430T143000Z
DTEND:20260430T163000Z
SUMMARY:Visiting Hours
DESCRIPTION:
URL:https://www.memorialfuneralhome.com/obituaries/brigid-walsh
LOCATION:Connors Funeral Home 55 West Main Road  Portsmouth RI 02871
GEO:41.614105;-71.2582802
END:VEVENT
END:VCALENDAR