BEGIN:VCALENDAR
VERSION:2.0
PRODID:-//Tukios.com/
BEGIN:VEVENT
UID:c0f0fdd3-eb5d-4c7e-ba97-7b2083dc746e@www.memorialfuneralhome.com
DTSTAMP:20260422T222055Z
DTSTART:20260426T200000Z
DTEND:20260426T230000Z
SUMMARY:Visiting Hours
DESCRIPTION:
URL:https://www.memorialfuneralhome.com/obituaries/eva-lopes
LOCATION:Connors Funeral Home 55 West Main Road  Portsmouth RI 02871
GEO:41.614105;-71.2582802
END:VEVENT
END:VCALENDAR