BEGIN:VCALENDAR
VERSION:2.0
PRODID:-//Tukios.com/
BEGIN:VEVENT
UID:25ee7d74-ecb2-4ef5-8fa9-05790467debf@www.memorialfuneralhome.com
DTSTAMP:20260420T175022Z
DTSTART:20260425T140000Z
DTEND:20260425T150000Z
SUMMARY:Mass of Christian Burial
DESCRIPTION:
URL:https://www.memorialfuneralhome.com/obituaries/lawrence-liptak
LOCATION:St. Mary's Catholic Church 12 William Street  Newport RI 02840
GEO:41.4838398;-71.3124339
END:VEVENT
END:VCALENDAR