BEGIN:VCALENDAR
VERSION:2.0
PRODID:-//Tukios.com/
BEGIN:VEVENT
UID:bc8d7f0e-5b62-4fdc-8f76-5b442e591c22@www.memorialfuneralhome.com
DTSTAMP:20260420T174727Z
DTSTART:20260425T153000Z
DTEND:20260425T163000Z
SUMMARY:Burial
DESCRIPTION:
URL:https://www.memorialfuneralhome.com/obituaries/lawrence-liptak
LOCATION: 465 Browns Lane  Middletown RI 02842
GEO:41.542045;-71.3046068
END:VEVENT
END:VCALENDAR