BEGIN:VCALENDAR
VERSION:2.0
PRODID:-//Tukios.com/
BEGIN:VEVENT
UID:f579ccd0-c3b0-44a9-ac88-46194ab1981c@www.memorialfuneralhome.com
DTSTAMP:20260422T234022Z
DTSTART:20260501T200000Z
DTEND:20260501T210000Z
SUMMARY:Memorial Service
DESCRIPTION:
URL:https://www.memorialfuneralhome.com/obituaries/nancy-palmieri
LOCATION:Connors Funeral Home 55 West Main Road  Portsmouth RI 02871
GEO:41.614105;-71.2582802
END:VEVENT
END:VCALENDAR