BEGIN:VCALENDAR
VERSION:2.0
PRODID:-//Tukios.com/
BEGIN:VEVENT
UID:97b2682f-ba8e-4e53-9378-b34cef53af66@www.memorialfuneralhome.com
DTSTAMP:20260420T172352Z
DTSTART:20260423T140000Z
DTEND:20260423T150000Z
SUMMARY:Mass of Christian Burial
DESCRIPTION:
URL:https://www.memorialfuneralhome.com/obituaries/ralph-guerriero
LOCATION:St. Barnabas Catholic Church 1697 East Main Road  Portsmouth RI 
	02871
GEO:41.5792882;-71.2515051
END:VEVENT
END:VCALENDAR